BEGIN:VCALENDAR
VERSION:2.0
PRODID:-//hacksw/handcal//NONSGML v1.0//EN
BEGIN:VEVENT
SUMMARY:Marathon de La Rochelle 2026
UID:7d328738-ab0f-4b09-b5ad-e64e78894eda
DTSTART:20261128T230000Z
DTEND:20261129T230000Z
LOCATION:Localisation  17000 La Rochelle
CATEGORIES:Sportif
STATUS:
DESCRIPTION:<p>Le Marathon de La Rochelle Serge Vigot revient fin
 novembre pour sa 35e edition ! </p>
 
 <h2> </h2>
 
 <h2>Les courses au
 programme</h2>
 
 <ul>
 	<li>Marathon</li>
 	<li>Marathon
 handisport</li>
 	<li>Marathon en duo | Relais a 2</li>
 	<li>Challenge
 Entreprises | Relais a 4</li>
 	<li>10km</li>
 </ul>
 
 <p> </p>
 
 <p
 style="text-align:center;"><a class="button"
 href="https://marathondelarochelle.com" target="_blank"
 rel="noreferrer noopener">Inscriptions le 5 mars</a></p>
 
 <p
 style="text-align:center;"><strong><span
 style="color:#e74c3c;">​​​​​​​Le marathon en duo et le
 10km sont complets !</span></strong></p>
 
 <p> </p>
 
 <h2>Retrait des
 dossards</h2>
 
 <p><em>a venir</em></p>
URL;VALUE=URI:https://www.rrunningathletisme.com/evenements/2026/11/29/marathon-de-la-rochelle-2026-2423330
END:VEVENT
END:VCALENDAR
