BEGIN:VCALENDAR
VERSION:2.0
PRODID:-//hacksw/handcal//NONSGML v1.0//EN
BEGIN:VEVENT
SUMMARY:Trail de la Presqu'ile 2026 (Fouras)
UID:de9d1c6e-39b8-404e-8c52-adbf56a6216c
DTSTART:20260911T220000Z
DTEND:20260912T220000Z
LOCATION:Localisation  17450 Fouras
CATEGORIES:Sportif
STATUS:
DESCRIPTION:<p>Pour la 3e edition du Trail de la Presqu'ile,
 l'association des Pousse-Pieds vous propose 3 parcours trail ainsi
 qu'une marche entre Saint-Laurent-de-la-Pree et Fouras, au coeur de
 l'estuaire de la Charente. Pour joindre l'utile a l'agreable, les
 Pousse-Pieds vous invitent a faire un don au profit de la
 reconstruction de Fort Boyard lors de
 l'inscription.</p>
 
 <h2> </h2>
 
 <h2>Les courses au
 programme</h2>
 
 <ul>
 	<li>Marche | 13km : depart a
 8h45</li>
 	<li>40km | Solo : depart a 10h</li>
 	<li>40km | Duo (20 +
 20) : depart a 10h</li>
 	<li>27km | Solo : depart a
 10h30</li>
 	<li>27km | Duo (20 + 7) : depart a 10h30</li>
 	<li>13km :
 depart a 11h</li>
 </ul>
 
 <p> </p>
 
 <p style="text-align:center;"><a
 class="button"
 href="https://chrono-start.com/events/trail-de-la-presquile-2026/"
 target="_blank" rel="noreferrer noopener">Ouverture des inscriptions
 le 18 avril</a></p>
 
 <p> </p>
 
 <h2>Retrait des
 dossards</h2>
 
 <ul>
 	<li>Vendredi 11 septembre de 16h a 18h :
 Intersport de Rochefort</li>
 	<li>Samedi 12 septembre a partir de
 7h45 : village de la course</li>
 </ul>
URL;VALUE=URI:https://www.rrunningathletisme.com/evenements/2026/09/12/trail-de-la-presquile-2026-fouras-2442251
END:VEVENT
END:VCALENDAR
