BEGIN:VCALENDAR
VERSION:2.0
PRODID:-//hacksw/handcal//NONSGML v1.0//EN
BEGIN:VEVENT
SUMMARY:Course de la generosite 2026 (Soubise)
UID:e60f088f-25b4-4bb7-b4a2-07d2a9e9fac0
DTSTART:20260613T220000Z
DTEND:20260614T220000Z
LOCATION:Localisation   Soubise
CATEGORIES:Sportif
STATUS:
DESCRIPTION:<p>Pour sa 19e edition, la <a
 href="https://www.rrunningathletisme.com/en-savoir-plus/la-course-de-la-generosite-163286"
 target="_blank" rel="noreferrer noopener">Course de la generosite</a>
 revient au profit du <strong>foyer des Tournesols de l'ADEI a
 Soubise</strong>. Rejoignez le R'running sur l'une des 4 epreuves
 proposees afin de recolter des fonds pour une bonne cause
 !</p>
 
 <p> </p>
 
 <h2>Les courses au programme</h2>
 
 <ul>
 	<li>5km :
 depart a 9h30</li>
 	<li>10km : depart a 9h30</li>
 	<li>bike & run
 10km : depart a 9h30</li>
 	<li>marche de 5km : depart a
 9h45</li>
 </ul>
 
 <p> </p>
 
 <p style="text-align:center;"><a
 class="button"
 href="https://chronometrage.com/events/coursedelagenerosite2026"
 target="_blank" rel="noreferrer noopener">Inscriptions sur
 chronometrage.com</a></p>
 
 <p> </p>
 
 <h2>Retrait des
 dossards</h2>
 
 
 
 <ul>
 	<li>le samedi 13 juin : de 14h a
 18h chez Intersport a Rochefort</li>
 	<li>le dimanche 14 juin :
 de 8h a 9h au foyer de l'ADEI a Soubise (3 rue du Marechal
 Juin)</li>
 </ul>
URL;VALUE=URI:https://www.rrunningathletisme.com/evenements/2026/06/14/course-de-la-generosite-2026-soubise-2426268
END:VEVENT
END:VCALENDAR
