BEGIN:VCALENDAR
VERSION:2.0
PRODID:-//hacksw/handcal//NONSGML v1.0//EN
BEGIN:VEVENT
SUMMARY:Championnat du monde de Joelette 2026 (Chatelaillon)
UID:e9896924-e114-4230-a6b9-764e6f388f6f
DTSTART:20260515T220000Z
DTEND:20260516T220000Z
LOCATION:Localisation  17340 Chatelaillon
CATEGORIES:Sportif
STATUS:
DESCRIPTION:<p>Organise par l'association Synapse17, le Championnat
 du monde de Joelette revient pour sa 18e edition a Chatelaillon, sous
 le parrainage de Philippe Crozon. Les equipes se composent de 3 a 5
 coureurs dont une personne en situation de handicap transportee sur
 la joelette. Long de 13km, le parcours propose des sections en ville,
 dans les marais, sur la plage, et meme quelques volees de marche pour
 mettre l'equilibre des coureurs a rude epreuve. Deux objectifs :
 courir dans la bonne humeur et creer un souvenir exceptionnel pour le
 coureur en situation de handicap.</p>
 
 <p> </p>
 
 <h2>La
 course</h2>
 
 <ul>
 	<li>13km : depart a
 13h30</li>
 </ul>
 
 <p> </p>
 
 <p style="text-align:center;"><a
 class="button"
 href="https://www.klikego.com/inscription/championnat-du-monde-de-joelette-2026/running-course-a-pied/1673383413306-4"
 target="_blank" rel="noreferrer noopener">S'inscrire au Championnat
 du monde</a></p>
 
 <p> </p>
 
 <h2>Retrait des
 dossards</h2>
 
 <ul>
 	<li>Le jour de la course sur place, jusqu'a
 13h</li>
 </ul>
URL;VALUE=URI:https://www.rrunningathletisme.com/evenements/2026/05/16/championnat-du-monde-de-joelette-2026-chatelaillon-2442285
END:VEVENT
END:VCALENDAR
