BEGIN:VCALENDAR
VERSION:2.0
PRODID:-//hacksw/handcal//NONSGML v1.0//EN
BEGIN:VEVENT
SUMMARY:Course de l'huitre 2026 (Marennes)
UID:a6c35ed9-82f4-44a0-b0d4-dd063e266e13
DTSTART:20260514T070000Z
DTEND:20260514T100000Z
LOCATION:Localisation  17320 Marennes
CATEGORIES:Sportif
STATUS:
DESCRIPTION:<h2>Les courses au programme</h2>
 
 <ul>
 	<li>Course
 poussins | 1km : depart a 9h</li>
 	<li>Courses benjamins et minimes |
 2km : depart a 9h05</li>
 	<li>Marche nordique | 10km : depart a
 9h05</li>
 	<li>7,5km : depart a 9h30</li>
 	<li>15km : depart a
 9h30</li>
 </ul>
 
 <p> </p>
 
 <p style="text-align:center;"><a
 class="button"
 href="https://www.espace-competition.com/index.php?module=inscription&comp=3126"
 target="_blank" rel="noreferrer noopener">S'inscrire a la course de
 l'huitre</a></p>
 
 <p style="text-align:center;"> </p>
 
 <h2>Retrait
 des dossards</h2>
 
 <ul>
 	<li>Mercredi 13 mai de 17h30 a 20h : place
 Chasseloup-Laubat (Marennes)</li>
 	<li>Jeudi 14 mai de 7h30 a 8h45 :
 place Chasseloup-Laubat (Marennes)</li>
 </ul>
URL;VALUE=URI:https://www.rrunningathletisme.com/evenements/2026/05/14/course-de-lhuitre-2026-marennes-2441944
END:VEVENT
END:VCALENDAR
