BEGIN:VCALENDAR
VERSION:2.0
PRODID:-//hacksw/handcal//NONSGML v1.0//EN
BEGIN:VEVENT
SUMMARY:Foulees de Leoville 2026
UID:d41c2f86-a5b2-48ec-aa11-35466f2273a9
DTSTART:20260509T220000Z
DTEND:20260510T220000Z
LOCATION:Localisation  17500 Leoville
CATEGORIES:Sportif
STATUS:
DESCRIPTION:<h2>Les courses au programme</h2>
 
 <ul>
 	<li>Course
 nature 6km : depart a 9h15</li>
 	<li>Course nature 10km : depart a
 9h15</li>
 	<li>Course nature 21km : depart a 9h15</li>
 	<li>Randonnee
 6km</li>
 	<li>Randonnee 10km</li>
 </ul>
 
 <p> </p>
 
 <p
 style="text-align:center;"><a class="button"
 href="https://chronometrage.com/events/fouleesdeleoville2026"
 target="_blank" rel="noreferrer noopener">S'inscrire aux Foulees de
 Leoville</a></p>
 
 <p> </p>
URL;VALUE=URI:https://www.rrunningathletisme.com/evenements/2026/05/10/foulees-de-leoville-2026-2441942
END:VEVENT
END:VCALENDAR
