BEGIN:VCALENDAR
VERSION:2.0
PRODID:-//hacksw/handcal//NONSGML v1.0//EN
BEGIN:VEVENT
SUMMARY:Sarabande des Filles de La Rochelle 2026
UID:fee61891-9619-4257-892d-4c3e1bb79768
DTSTART:20260509T130000Z
DTEND:20260509T143000Z
LOCATION:Localisation  17000 La Rochelle
CATEGORIES:Sportif
STATUS:
DESCRIPTION:<h2>Les courses au programme</h2>
 
 <ul>
 	<li>7km : depart
 a 15h</li>
 </ul>
 
 <p> </p>
 
 <p style="text-align:center;"><a
 class="button"
 href="https://sportinnovation.fr/Evenements/Inscriptions/9033"
 target="_blank" rel="noreferrer noopener">S'inscrire a la
 Sarabande</a></p>
 
 <p> </p>
 
 <h2>Les
 challenges</h2>
 
 <ul>
 	<li>Challenge Mere —
 Fille</li>
 	<li>Challenge Mere — Fille —
 Petite-fille</li>
 	<li>Challenge du nombre</li>
 	<li>Challenge des
 deguisees (individuel et/ou en
 groupe)</li>
 </ul>
 
 <p> </p>
 
 <h2>Retrait des
 dossards</h2>
 
 <ul>
 	<li>Samedi 9 mai de 10h a 14h : grande halle de
 l'Encan</li>
 </ul>
URL;VALUE=URI:https://www.rrunningathletisme.com/evenements/2026/05/09/sarabande-des-filles-de-la-rochelle-2026-2441939
END:VEVENT
END:VCALENDAR
