BEGIN:VCALENDAR
VERSION:2.0
PRODID:-//hacksw/handcal//NONSGML v1.0//EN
BEGIN:VEVENT
SUMMARY:Trail du Canal 2026 (La Rochelle)
UID:532e28d3-4644-47b4-b14d-e0f631f9b534
DTSTART:20260430T220000Z
DTEND:20260501T220000Z
LOCATION:Localisation rue de Perigny 17000 La Rochelle
CATEGORIES:Sportif
STATUS:
DESCRIPTION:<h2>Les courses au programme</h2>
 
 <ul>
 	<li>Trail de
 12km : depart a 8h45</li>
 	<li>Minitrail : depart a
 9h</li>
 	<li>Trail de 23km : depart a 9h15</li>
 </ul>
 
 <p> </p>
 
 <p
 style="text-align:center;"><strong><span
 style="color:#c0392b;">Toutes les courses sont completes
 !</span></strong></p>
 
 <p
 style="text-align:center;"> </p>
 
 <h2>Retrait des
 dossards</h2>
 
 <ul>
 	<li>Jeudi 30 avril de 17h30 a 20h : gymnase du
 lycee Doriole (rue Maurice Ravel)</li>
 	<li>Jeudi 1er mai de 7h a 8h
 : gymnase du lycee Doriole (rue Maurice Ravel)</li>
 </ul>
URL;VALUE=URI:https://www.rrunningathletisme.com/evenements/2026/05/01/trail-du-canal-2026-la-rochelle-2441927
END:VEVENT
END:VCALENDAR
