BEGIN:VCALENDAR
VERSION:2.0
PRODID:-//hacksw/handcal//NONSGML v1.0//EN
BEGIN:VEVENT
SUMMARY:Foulees pontoises 2026 (Pons)
UID:a7db96ee-993b-4bbb-8fb6-9430c41fbb4a
DTSTART:20260430T220000Z
DTEND:20260501T220000Z
LOCATION:Localisation  17800 Pons
CATEGORIES:Sportif
STATUS:
DESCRIPTION:<h2>Les courses au programme</h2>
 
 <ul>
 	<li>5,2km :
 depart a 9h30</li>
 	<li>8,9km : depart a 10h10</li>
 	<li>Course
 enfants : depart a 11h15</li>
 </ul>
URL;VALUE=URI:https://www.rrunningathletisme.com/evenements/2026/05/01/foulees-pontoises-2026-pons-2441934
END:VEVENT
END:VCALENDAR
